Package: PhenStat Version: 2.43.0 Command: /Library/Frameworks/R.framework/Resources/bin/R CMD build --keep-empty-dirs --no-resave-data PhenStat StartedAt: 2025-02-09 17:14:55 -0500 (Sun, 09 Feb 2025) EndedAt: 2025-02-09 17:15:08 -0500 (Sun, 09 Feb 2025) EllapsedTime: 13.1 seconds RetCode: 0 Status: OK PackageFile: PhenStat_2.43.0.tar.gz PackageFileSize: 681.8 KiB