Package: PhenStat Version: 2.43.0 Command: /Library/Frameworks/R.framework/Resources/bin/R CMD INSTALL PhenStat StartedAt: 2025-02-09 15:20:57 -0500 (Sun, 09 Feb 2025) EndedAt: 2025-02-09 15:21:04 -0500 (Sun, 09 Feb 2025) EllapsedTime: 6.5 seconds RetCode: 0 Status: OK