Package: PhenStat Version: 2.43.0 Command: /home/biocbuild/R/R/bin/R CMD build --keep-empty-dirs --no-resave-data PhenStat StartedAt: 2025-01-29 01:16:28 -0000 (Wed, 29 Jan 2025) EndedAt: 2025-01-29 01:17:04 -0000 (Wed, 29 Jan 2025) EllapsedTime: 36.0 seconds RetCode: 0 Status: OK PackageFile: PhenStat_2.43.0.tar.gz PackageFileSize: 667.5 KiB