Package: PhenStat Version: 2.43.0 Command: rm -rf PhenStat.buildbin-libdir && mkdir PhenStat.buildbin-libdir && /Users/biocbuild/BBS/utils/build-universal.sh PhenStat_2.43.0.tar.gz /Library/Frameworks/R.framework/Resources/bin/R PhenStat.buildbin-libdir StartedAt: 2025-02-13 00:50:46 -0500 (Thu, 13 Feb 2025) EndedAt: 2025-02-13 00:51:12 -0500 (Thu, 13 Feb 2025) EllapsedTime: 25.5 seconds RetCode: 0 Status: OK PackageFile: PhenStat_2.43.0.tgz PackageFileSize: 1.255 MiB