Package: PhenStat Version: 2.43.0 Command: /Library/Frameworks/R.framework/Resources/bin/R CMD INSTALL PhenStat StartedAt: 2025-02-12 15:32:27 -0500 (Wed, 12 Feb 2025) EndedAt: 2025-02-12 15:32:50 -0500 (Wed, 12 Feb 2025) EllapsedTime: 22.6 seconds RetCode: 0 Status: OK