Package: PhenStat Version: 2.43.0 Command: /home/biocbuild/bbs-3.21-bioc/R/bin/R CMD build --keep-empty-dirs --no-resave-data PhenStat StartedAt: 2025-02-12 18:35:08 -0500 (Wed, 12 Feb 2025) EndedAt: 2025-02-12 18:35:37 -0500 (Wed, 12 Feb 2025) EllapsedTime: 29.0 seconds RetCode: 0 Status: OK PackageFile: PhenStat_2.43.0.tar.gz PackageFileSize: 681.8 KiB