Package: PhenStat Version: 2.43.0 Command: rm -rf PhenStat.buildbin-libdir && mkdir PhenStat.buildbin-libdir && E:\biocbuild\bbs-3.21-bioc\R\bin\R.exe CMD INSTALL --build --library=PhenStat.buildbin-libdir PhenStat_2.43.0.tar.gz StartedAt: 2025-02-13 08:32:54 -0500 (Thu, 13 Feb 2025) EndedAt: 2025-02-13 08:34:04 -0500 (Thu, 13 Feb 2025) EllapsedTime: 70.1 seconds RetCode: 0 Status: OK PackageFile: PhenStat_2.43.0.zip PackageFileSize: 1.25 MiB