Package: PhenStat Version: 2.43.0 Command: E:\biocbuild\bbs-3.21-bioc\R\bin\R.exe CMD check --no-multiarch --install=check:PhenStat.install-out.txt --library=E:\biocbuild\bbs-3.21-bioc\R\library --no-vignettes --timings PhenStat_2.43.0.tar.gz StartedAt: 2025-02-10 04:04:02 -0500 (Mon, 10 Feb 2025) EndedAt: 2025-02-10 04:06:52 -0500 (Mon, 10 Feb 2025) EllapsedTime: 169.7 seconds RetCode: 0 Status: OK CheckDir: PhenStat.Rcheck Warnings: 0