Package: PhenoGeneRanker Version: 1.15.0 Command: /Library/Frameworks/R.framework/Resources/bin/R CMD INSTALL PhenoGeneRanker StartedAt: 2025-02-09 15:07:22 -0500 (Sun, 09 Feb 2025) EndedAt: 2025-02-09 15:07:47 -0500 (Sun, 09 Feb 2025) EllapsedTime: 25.3 seconds RetCode: 0 Status: OK