Package: PhenoGeneRanker Version: 1.15.0 Command: /home/biocbuild/bbs-3.21-bioc/R/bin/R CMD check --install=check:PhenoGeneRanker.install-out.txt --library=/home/biocbuild/bbs-3.21-bioc/R/site-library --timings PhenoGeneRanker_1.15.0.tar.gz StartedAt: 2025-02-10 01:16:21 -0500 (Mon, 10 Feb 2025) EndedAt: 2025-02-10 01:24:24 -0500 (Mon, 10 Feb 2025) EllapsedTime: 482.8 seconds RetCode: 0 Status: OK CheckDir: PhenoGeneRanker.Rcheck Warnings: 0