Package: PhenoGeneRanker Version: 1.15.0 Command: /home/biocbuild/bbs-3.21-bioc/R/bin/R CMD INSTALL PhenoGeneRanker StartedAt: 2025-02-09 15:09:12 -0500 (Sun, 09 Feb 2025) EndedAt: 2025-02-09 15:09:21 -0500 (Sun, 09 Feb 2025) EllapsedTime: 8.8 seconds RetCode: 0 Status: OK