Package: PhenoGeneRanker Version: 1.15.0 Command: E:\biocbuild\bbs-3.21-bioc\R\bin\R.exe CMD check --no-multiarch --install=check:PhenoGeneRanker.install-out.txt --library=E:\biocbuild\bbs-3.21-bioc\R\library --no-vignettes --timings PhenoGeneRanker_1.15.0.tar.gz StartedAt: 2025-02-13 04:12:24 -0500 (Thu, 13 Feb 2025) EndedAt: 2025-02-13 04:14:17 -0500 (Thu, 13 Feb 2025) EllapsedTime: 113.4 seconds RetCode: 0 Status: OK CheckDir: PhenoGeneRanker.Rcheck Warnings: 0