Package: PhosR Version: 1.17.0 Command: /Library/Frameworks/R.framework/Resources/bin/R CMD INSTALL PhosR StartedAt: 2025-02-09 15:28:13 -0500 (Sun, 09 Feb 2025) EndedAt: 2025-02-09 15:28:24 -0500 (Sun, 09 Feb 2025) EllapsedTime: 11.2 seconds RetCode: 0 Status: OK