Package: PhosR Version: 1.17.0 Command: rm -rf PhosR.buildbin-libdir && mkdir PhosR.buildbin-libdir && /Users/biocbuild/BBS/utils/build-universal.sh PhosR_1.17.0.tar.gz /Library/Frameworks/R.framework/Resources/bin/R PhosR.buildbin-libdir StartedAt: 2025-02-10 01:08:13 -0500 (Mon, 10 Feb 2025) EndedAt: 2025-02-10 01:08:57 -0500 (Mon, 10 Feb 2025) EllapsedTime: 44.0 seconds RetCode: 0 Status: OK PackageFile: PhosR_1.17.0.tgz PackageFileSize: 6.012 MiB