Package: PhosR Version: 1.17.0 Command: /Library/Frameworks/R.framework/Resources/bin/R CMD build --keep-empty-dirs --no-resave-data PhosR StartedAt: 2025-02-12 17:50:50 -0500 (Wed, 12 Feb 2025) EndedAt: 2025-02-12 17:54:36 -0500 (Wed, 12 Feb 2025) EllapsedTime: 226.2 seconds RetCode: 0 Status: OK PackageFile: PhosR_1.17.0.tar.gz PackageFileSize: 7.964 MiB