Package: PhosR Version: 1.17.0 Command: /Library/Frameworks/R.framework/Resources/bin/R CMD check --install=check:PhosR.install-out.txt --library=/Library/Frameworks/R.framework/Resources/library --no-vignettes --timings PhosR_1.17.0.tar.gz StartedAt: 2025-02-12 22:26:58 -0500 (Wed, 12 Feb 2025) EndedAt: 2025-02-12 22:33:43 -0500 (Wed, 12 Feb 2025) EllapsedTime: 404.7 seconds RetCode: 0 Status: OK CheckDir: PhosR.Rcheck Warnings: 0