Package: PhosR Version: 1.17.0 Command: /home/biocbuild/bbs-3.21-bioc/R/bin/R CMD build --keep-empty-dirs --no-resave-data PhosR StartedAt: 2025-02-09 18:39:47 -0500 (Sun, 09 Feb 2025) EndedAt: 2025-02-09 18:42:52 -0500 (Sun, 09 Feb 2025) EllapsedTime: 185.3 seconds RetCode: 0 Status: OK PackageFile: PhosR_1.17.0.tar.gz PackageFileSize: 7.436 MiB