Package: PhosR Version: 1.17.0 Command: /home/biocbuild/bbs-3.21-bioc/R/bin/R CMD INSTALL PhosR StartedAt: 2025-02-12 15:18:38 -0500 (Wed, 12 Feb 2025) EndedAt: 2025-02-12 15:19:07 -0500 (Wed, 12 Feb 2025) EllapsedTime: 29.1 seconds RetCode: 0 Status: OK