Package: PhosR Version: 1.17.0 Command: E:\biocbuild\bbs-3.21-bioc\R\bin\R.exe CMD check --no-multiarch --install=check:PhosR.install-out.txt --library=E:\biocbuild\bbs-3.21-bioc\R\library --no-vignettes --timings PhosR_1.17.0.tar.gz StartedAt: 2025-02-10 04:04:57 -0500 (Mon, 10 Feb 2025) EndedAt: 2025-02-10 04:11:59 -0500 (Mon, 10 Feb 2025) EllapsedTime: 422.2 seconds RetCode: 0 Status: OK CheckDir: PhosR.Rcheck Warnings: 0