Package: PhyloProfile Version: 1.99.4 Maintainer: Vinh Tran MaintainerEmail: tran at bio.uni-frankfurt.de git_url: https://git.bioconductor.org/packages/PhyloProfile git_branch: devel git_last_commit: 5f2a0cc git_last_commit_date: 2025-02-07 07:40:34 -0500 (Fri, 07 Feb 2025)