Package: PhyloProfile Version: 1.99.4 Command: rm -rf PhyloProfile.buildbin-libdir && mkdir PhyloProfile.buildbin-libdir && /Users/biocbuild/BBS/utils/build-universal.sh PhyloProfile_1.99.4.tar.gz /Library/Frameworks/R.framework/Resources/bin/R PhyloProfile.buildbin-libdir StartedAt: 2025-02-09 22:25:10 -0500 (Sun, 09 Feb 2025) EndedAt: 2025-02-09 22:25:22 -0500 (Sun, 09 Feb 2025) EllapsedTime: 11.2 seconds RetCode: 0 Status: OK PackageFile: PhyloProfile_1.99.4.tgz PackageFileSize: 1.506 MiB