Package: PhyloProfile Version: 1.99.4 Command: /Library/Frameworks/R.framework/Resources/bin/R CMD build --keep-empty-dirs --no-resave-data PhyloProfile StartedAt: 2025-02-09 17:15:08 -0500 (Sun, 09 Feb 2025) EndedAt: 2025-02-09 17:15:24 -0500 (Sun, 09 Feb 2025) EllapsedTime: 16.2 seconds RetCode: 0 Status: OK PackageFile: PhyloProfile_1.99.4.tar.gz PackageFileSize: 1.42 MiB