Package: PhyloProfile Version: 1.99.1 Command: /home/biocbuild/R/R/bin/R CMD build --keep-empty-dirs --no-resave-data PhyloProfile StartedAt: 2025-01-29 01:17:04 -0000 (Wed, 29 Jan 2025) EndedAt: 2025-01-29 01:18:03 -0000 (Wed, 29 Jan 2025) EllapsedTime: 58.0 seconds RetCode: 0 Status: OK PackageFile: PhyloProfile_1.99.1.tar.gz PackageFileSize: 1.271 MiB