Package: PhyloProfile Version: 1.99.1 Command: /home/biocbuild/R/R/bin/R CMD INSTALL PhyloProfile StartedAt: 2025-01-29 20:09:37 -0000 (Wed, 29 Jan 2025) EndedAt: 2025-01-29 20:10:12 -0000 (Wed, 29 Jan 2025) EllapsedTime: 34.5 seconds RetCode: 0 Status: OK