Package: PhyloProfile Version: 1.99.4 Command: rm -rf PhyloProfile.buildbin-libdir && mkdir PhyloProfile.buildbin-libdir && /Users/biocbuild/BBS/utils/build-universal.sh PhyloProfile_1.99.4.tar.gz /Library/Frameworks/R.framework/Resources/bin/R PhyloProfile.buildbin-libdir StartedAt: 2025-02-10 01:08:13 -0500 (Mon, 10 Feb 2025) EndedAt: 2025-02-10 01:08:51 -0500 (Mon, 10 Feb 2025) EllapsedTime: 38.2 seconds RetCode: 0 Status: OK PackageFile: PhyloProfile_1.99.4.tgz PackageFileSize: 1.497 MiB