Package: PhyloProfile Version: 1.99.4 Command: /Library/Frameworks/R.framework/Resources/bin/R CMD INSTALL PhyloProfile StartedAt: 2025-02-12 15:27:08 -0500 (Wed, 12 Feb 2025) EndedAt: 2025-02-12 15:27:42 -0500 (Wed, 12 Feb 2025) EllapsedTime: 33.3 seconds RetCode: 0 Status: OK