Package: PhyloProfile Version: 1.99.4 Command: /home/biocbuild/bbs-3.21-bioc/R/bin/R CMD build --keep-empty-dirs --no-resave-data PhyloProfile StartedAt: 2025-02-09 18:39:52 -0500 (Sun, 09 Feb 2025) EndedAt: 2025-02-09 18:40:32 -0500 (Sun, 09 Feb 2025) EllapsedTime: 40.1 seconds RetCode: 0 Status: OK PackageFile: PhyloProfile_1.99.4.tar.gz PackageFileSize: 1.424 MiB