Package: PhyloProfile Version: 1.99.4 Command: /home/biocbuild/bbs-3.21-bioc/R/bin/R CMD check --install=check:PhyloProfile.install-out.txt --library=/home/biocbuild/bbs-3.21-bioc/R/site-library --timings PhyloProfile_1.99.4.tar.gz StartedAt: 2025-02-10 01:18:35 -0500 (Mon, 10 Feb 2025) EndedAt: 2025-02-10 01:21:56 -0500 (Mon, 10 Feb 2025) EllapsedTime: 201.3 seconds RetCode: 0 Status: OK CheckDir: PhyloProfile.Rcheck Warnings: 0