Package: PhyloProfile Version: 1.99.4 Command: /home/biocbuild/bbs-3.21-bioc/R/bin/R CMD INSTALL PhyloProfile StartedAt: 2025-02-09 15:25:51 -0500 (Sun, 09 Feb 2025) EndedAt: 2025-02-09 15:26:15 -0500 (Sun, 09 Feb 2025) EllapsedTime: 24.1 seconds RetCode: 0 Status: OK