Package: PhyloProfile Version: 1.99.4 Command: rm -rf PhyloProfile.buildbin-libdir && mkdir PhyloProfile.buildbin-libdir && E:\biocbuild\bbs-3.21-bioc\R\bin\R.exe CMD INSTALL --build --library=PhyloProfile.buildbin-libdir PhyloProfile_1.99.4.tar.gz StartedAt: 2025-02-10 08:23:02 -0500 (Mon, 10 Feb 2025) EndedAt: 2025-02-10 08:25:12 -0500 (Mon, 10 Feb 2025) EllapsedTime: 129.9 seconds RetCode: 0 Status: OK PackageFile: PhyloProfile_1.99.4.zip PackageFileSize: 1.294 MiB