Package: PhyloProfile Version: 1.99.4 Command: E:\biocbuild\bbs-3.21-bioc\R\bin\R.exe CMD INSTALL PhyloProfile StartedAt: 2025-02-09 15:50:23 -0500 (Sun, 09 Feb 2025) EndedAt: 2025-02-09 15:52:41 -0500 (Sun, 09 Feb 2025) EllapsedTime: 138.6 seconds RetCode: 0 Status: OK