Package: Pigengene Version: 1.33.0 Command: rm -rf Pigengene.buildbin-libdir && mkdir Pigengene.buildbin-libdir && /Users/biocbuild/BBS/utils/build-universal.sh Pigengene_1.33.0.tar.gz /Library/Frameworks/R.framework/Resources/bin/R Pigengene.buildbin-libdir StartedAt: 2025-02-09 22:25:13 -0500 (Sun, 09 Feb 2025) EndedAt: 2025-02-09 22:25:26 -0500 (Sun, 09 Feb 2025) EllapsedTime: 12.3 seconds RetCode: 0 Status: OK PackageFile: Pigengene_1.33.0.tgz PackageFileSize: 2.974 MiB