Package: Pigengene Version: 1.33.0 Command: /Library/Frameworks/R.framework/Resources/bin/R CMD build --keep-empty-dirs --no-resave-data Pigengene StartedAt: 2025-02-09 17:15:17 -0500 (Sun, 09 Feb 2025) EndedAt: 2025-02-09 17:16:48 -0500 (Sun, 09 Feb 2025) EllapsedTime: 91.0 seconds RetCode: 0 Status: OK PackageFile: Pigengene_1.33.0.tar.gz PackageFileSize: 2.697 MiB