Package: Pigengene Version: 1.33.0 Command: /Library/Frameworks/R.framework/Resources/bin/R CMD check --install=check:Pigengene.install-out.txt --library=/Library/Frameworks/R.framework/Resources/library --no-vignettes --timings Pigengene_1.33.0.tar.gz StartedAt: 2025-02-09 20:40:06 -0500 (Sun, 09 Feb 2025) EndedAt: 2025-02-09 20:44:24 -0500 (Sun, 09 Feb 2025) EllapsedTime: 258.0 seconds RetCode: 0 Status: OK CheckDir: Pigengene.Rcheck Warnings: 0