Package: Pigengene Version: 1.33.0 Command: /Library/Frameworks/R.framework/Resources/bin/R CMD INSTALL Pigengene StartedAt: 2025-02-03 16:01:44 -0500 (Mon, 03 Feb 2025) EndedAt: 2025-02-03 16:01:55 -0500 (Mon, 03 Feb 2025) EllapsedTime: 10.6 seconds RetCode: 0 Status: OK