Package: Pigengene Version: 1.33.0 Command: /Library/Frameworks/R.framework/Resources/bin/R CMD build --keep-empty-dirs --no-resave-data Pigengene StartedAt: 2025-02-03 17:55:47 -0500 (Mon, 03 Feb 2025) EndedAt: 2025-02-03 17:58:57 -0500 (Mon, 03 Feb 2025) EllapsedTime: 189.9 seconds RetCode: 0 Status: OK PackageFile: Pigengene_1.33.0.tar.gz PackageFileSize: 2.697 MiB