Package: Pigengene Version: 1.33.0 Command: /Library/Frameworks/R.framework/Resources/bin/R CMD INSTALL Pigengene StartedAt: 2025-02-09 15:42:16 -0500 (Sun, 09 Feb 2025) EndedAt: 2025-02-09 15:42:53 -0500 (Sun, 09 Feb 2025) EllapsedTime: 38.0 seconds RetCode: 0 Status: OK