Package: Pigengene Version: 1.33.0 Command: /home/biocbuild/bbs-3.21-bioc/R/bin/R CMD build --keep-empty-dirs --no-resave-data Pigengene StartedAt: 2025-02-04 18:37:52 -0500 (Tue, 04 Feb 2025) EndedAt: 2025-02-04 18:40:53 -0500 (Tue, 04 Feb 2025) EllapsedTime: 180.3 seconds RetCode: 0 Status: OK PackageFile: Pigengene_1.33.0.tar.gz PackageFileSize: 2.697 MiB