Package: Pigengene Version: 1.33.0 Command: /home/biocbuild/bbs-3.21-bioc/R/bin/R CMD INSTALL Pigengene StartedAt: 2025-02-04 15:45:15 -0500 (Tue, 04 Feb 2025) EndedAt: 2025-02-04 15:45:43 -0500 (Tue, 04 Feb 2025) EllapsedTime: 27.9 seconds RetCode: 0 Status: OK