Package: Pigengene Version: 1.33.0 Command: rm -rf Pigengene.buildbin-libdir && mkdir Pigengene.buildbin-libdir && E:\biocbuild\bbs-3.21-bioc\R\bin\R.exe CMD INSTALL --build --library=Pigengene.buildbin-libdir Pigengene_1.33.0.tar.gz StartedAt: 2025-02-10 08:23:14 -0500 (Mon, 10 Feb 2025) EndedAt: 2025-02-10 08:24:05 -0500 (Mon, 10 Feb 2025) EllapsedTime: 51.2 seconds RetCode: 0 Status: OK PackageFile: Pigengene_1.33.0.zip PackageFileSize: 2.978 MiB