Package: Pigengene Version: 1.33.0 Command: chmod a+r Pigengene -R && E:\biocbuild\bbs-3.21-bioc\R\bin\R.exe CMD build --keep-empty-dirs --no-resave-data Pigengene StartedAt: 2025-02-03 20:58:23 -0500 (Mon, 03 Feb 2025) EndedAt: 2025-02-03 21:05:37 -0500 (Mon, 03 Feb 2025) EllapsedTime: 433.6 seconds RetCode: 0 Status: OK PackageFile: Pigengene_1.33.0.tar.gz PackageFileSize: 2.698 MiB