Package: Pigengene Version: 1.33.0 Command: E:\biocbuild\bbs-3.21-bioc\R\bin\R.exe CMD check --no-multiarch --install=check:Pigengene.install-out.txt --library=E:\biocbuild\bbs-3.21-bioc\R\library --no-vignettes --timings Pigengene_1.33.0.tar.gz StartedAt: 2025-02-04 04:33:53 -0500 (Tue, 04 Feb 2025) EndedAt: 2025-02-04 04:46:04 -0500 (Tue, 04 Feb 2025) EllapsedTime: 731.1 seconds RetCode: 0 Status: OK CheckDir: Pigengene.Rcheck Warnings: 0