Package: Pigengene Version: 1.33.0 Command: E:\biocbuild\bbs-3.21-bioc\R\bin\R.exe CMD INSTALL Pigengene StartedAt: 2025-02-09 16:04:27 -0500 (Sun, 09 Feb 2025) EndedAt: 2025-02-09 16:05:20 -0500 (Sun, 09 Feb 2025) EllapsedTime: 53.3 seconds RetCode: 0 Status: OK