Package: Polytect Version: 0.99.5 Command: /home/biocbuild/R/R/bin/R CMD check --install=check:Polytect.install-out.txt --library=/home/biocbuild/R/R/site-library --no-vignettes --timings Polytect_0.99.5.tar.gz StartedAt: 2025-01-28 14:00:04 -0000 (Tue, 28 Jan 2025) EndedAt: 2025-01-28 14:02:06 -0000 (Tue, 28 Jan 2025) EllapsedTime: 122.1 seconds RetCode: 0 Status: OK CheckDir: Polytect.Rcheck Warnings: 0