Package: Polytect Version: 0.99.5 Command: /home/biocbuild/R/R/bin/R CMD INSTALL Polytect StartedAt: 2025-01-29 20:17:04 -0000 (Wed, 29 Jan 2025) EndedAt: 2025-01-29 20:17:15 -0000 (Wed, 29 Jan 2025) EllapsedTime: 12.0 seconds RetCode: 0 Status: OK