Package: Polytect Version: 0.99.5 Command: /Library/Frameworks/R.framework/Resources/bin/R CMD build --keep-empty-dirs --no-resave-data Polytect StartedAt: 2025-02-09 17:59:10 -0500 (Sun, 09 Feb 2025) EndedAt: 2025-02-09 18:00:36 -0500 (Sun, 09 Feb 2025) EllapsedTime: 85.7 seconds RetCode: 0 Status: OK PackageFile: Polytect_0.99.5.tar.gz PackageFileSize: 2.128 MiB