Package: Polytect Version: 0.99.5 Command: /home/biocbuild/bbs-3.21-bioc/R/bin/R CMD INSTALL Polytect StartedAt: 2025-02-12 15:11:01 -0500 (Wed, 12 Feb 2025) EndedAt: 2025-02-12 15:11:19 -0500 (Wed, 12 Feb 2025) EllapsedTime: 17.9 seconds RetCode: 0 Status: OK