Package: Polytect Version: 0.99.5 Command: chmod a+r Polytect -R && E:\biocbuild\bbs-3.21-bioc\R\bin\R.exe CMD build --keep-empty-dirs --no-resave-data Polytect StartedAt: 2025-02-09 20:49:08 -0500 (Sun, 09 Feb 2025) EndedAt: 2025-02-09 20:53:35 -0500 (Sun, 09 Feb 2025) EllapsedTime: 267.0 seconds RetCode: 0 Status: OK PackageFile: Polytect_0.99.5.tar.gz PackageFileSize: 1.991 MiB