Back to Multiple platform build/check report for BioC 3.21:   simplified   long
ABCDEFGHIJKLMNO[P]QRSTUVWXYZ

This page was generated on 2025-02-13 11:39 -0500 (Thu, 13 Feb 2025).

HostnameOSArch (*)R versionInstalled pkgs
nebbiolo1Linux (Ubuntu 24.04.1 LTS)x86_64R Under development (unstable) (2025-01-20 r87609) -- "Unsuffered Consequences" 4719
palomino7Windows Server 2022 Datacenterx64R Under development (unstable) (2025-01-21 r87610 ucrt) -- "Unsuffered Consequences" 4481
lconwaymacOS 12.7.1 Montereyx86_64R Under development (unstable) (2025-01-22 r87618) -- "Unsuffered Consequences" 4492
kjohnson3macOS 13.7.1 Venturaarm64R Under development (unstable) (2025-01-20 r87609) -- "Unsuffered Consequences" 4445
Click on any hostname to see more info about the system (e.g. compilers)      (*) as reported by 'uname -p', except on Windows and Mac OS X

All results for package ProtGenerics


To the developers/maintainers of the ProtGenerics package:
- Allow up to 24 hours (and sometimes 48 hours) for your latest push to git@git.bioconductor.org:packages/ProtGenerics.git to reflect on this report. See Troubleshooting Build Report for more information.
- Use the following Renviron settings to reproduce errors and warnings.
- If 'R CMD check' started to fail recently on the Linux builder(s) over a missing dependency, add the missing dependency to 'Suggests:' in your DESCRIPTION file. See Renviron.bioc for more information.

raw results

Package 1615/2295HostnameOS / ArchINSTALLBUILDCHECKBUILD BIN
ProtGenerics 1.39.2  (landing page)
Laurent Gatto
Snapshot Date: 2025-02-12 13:40 -0500 (Wed, 12 Feb 2025)
git_url: https://git.bioconductor.org/packages/ProtGenerics
git_branch: devel
git_last_commit: 0103c31
git_last_commit_date: 2025-01-15 08:40:38 -0500 (Wed, 15 Jan 2025)
nebbiolo1Linux (Ubuntu 24.04.1 LTS) / x86_64  OK    OK    OK  UNNEEDED, same version is already published
palomino7Windows Server 2022 Datacenter / x64  OK    OK    OK    OK  UNNEEDED, same version is already published
lconwaymacOS 12.7.1 Monterey / x86_64  OK    OK    OK    OK  UNNEEDED, same version is already published
kjohnson3macOS 13.7.1 Ventura / arm64  OK    OK    OK    OK  UNNEEDED, same version is already published



Results for Bioconductor software packages that depend directly on package ProtGenerics

QUICK STATSOS / ArchINSTALLBUILDCHECKBUILD BIN
nebbiolo1Linux (Ubuntu 24.04.1 LTS) / x86_64
0024
0123
01121
palomino7Windows Server 2022 Datacenter / x64
0024
0123
02219
0023
lconwaymacOS 12.7.1 Monterey / x86_64
0024
0123
01121
0023
kjohnson3macOS 13.7.1 Ventura / arm64
0024
0024
03120
0024
Package 1/24HostnameOS / ArchINSTALLBUILDCHECKBUILD BIN
Cardinal 3.9.0  (landing page)
Kylie Ariel Bemis
git_last_commit: 92a4a47
git_last_commit_date: 2024-12-18 22:04:01 -0500
nebbiolo1Linux (Ubuntu 24.04.1 LTS) / x86_64  OK    OK    OK  UNNEEDED, same version is already published
palomino7Windows Server 2022 Datacenter / x64  OK    OK    OK    OK  UNNEEDED, same version is already published
lconwaymacOS 12.7.1 Monterey / x86_64  OK    OK    OK    OK  UNNEEDED, same version is already published
kjohnson3macOS 13.7.1 Ventura / arm64  OK    OK    OK    OK  UNNEEDED, same version is already published
Package 2/24HostnameOS / ArchINSTALLBUILDCHECKBUILD BIN
CompoundDb 1.11.2  (landing page)
Johannes Rainer
git_last_commit: 6421537
git_last_commit_date: 2025-01-17 03:25:26 -0500
nebbiolo1Linux (Ubuntu 24.04.1 LTS) / x86_64  OK    OK    OK  UNNEEDED, same version is already published
palomino7Windows Server 2022 Datacenter / x64  OK    OK    OK    OK  UNNEEDED, same version is already published
lconwaymacOS 12.7.1 Monterey / x86_64  OK    OK    OK    OK  UNNEEDED, same version is already published
kjohnson3macOS 13.7.1 Ventura / arm64  OK    OK    OK    OK  UNNEEDED, same version is already published
Package 3/24HostnameOS / ArchINSTALLBUILDCHECKBUILD BIN
ensembldb 2.31.0  (landing page)
Johannes Rainer
git_last_commit: 9c06161
git_last_commit_date: 2024-10-29 09:59:38 -0500
nebbiolo1Linux (Ubuntu 24.04.1 LTS) / x86_64  OK    OK    OK  UNNEEDED, same version is already published
palomino7Windows Server 2022 Datacenter / x64  OK    OK    OK    OK  UNNEEDED, same version is already published
lconwaymacOS 12.7.1 Monterey / x86_64  OK    OK    OK    OK  UNNEEDED, same version is already published
kjohnson3macOS 13.7.1 Ventura / arm64  OK    OK    OK    OK  UNNEEDED, same version is already published
Package 4/24HostnameOS / ArchINSTALLBUILDCHECKBUILD BIN
matter 2.9.1  (landing page)
Kylie A. Bemis
git_last_commit: bcfe9fb
git_last_commit_date: 2024-12-04 18:32:57 -0500
nebbiolo1Linux (Ubuntu 24.04.1 LTS) / x86_64  OK    OK    OK  UNNEEDED, same version is already published
palomino7Windows Server 2022 Datacenter / x64  OK    OK    ERROR    OK  
lconwaymacOS 12.7.1 Monterey / x86_64  OK    OK    OK    OK  UNNEEDED, same version is already published
kjohnson3macOS 13.7.1 Ventura / arm64  OK    OK    OK    OK  UNNEEDED, same version is already published
Package 5/24HostnameOS / ArchINSTALLBUILDCHECKBUILD BIN
MetaboAnnotation 1.11.1  (landing page)
Johannes Rainer
git_last_commit: 09220a8
git_last_commit_date: 2024-12-18 07:36:02 -0500
nebbiolo1Linux (Ubuntu 24.04.1 LTS) / x86_64  OK    OK    OK  UNNEEDED, same version is already published
palomino7Windows Server 2022 Datacenter / x64  OK    OK    OK    OK  UNNEEDED, same version is already published
lconwaymacOS 12.7.1 Monterey / x86_64  OK    OK    OK    OK  UNNEEDED, same version is already published
kjohnson3macOS 13.7.1 Ventura / arm64  OK    OK    OK    OK  UNNEEDED, same version is already published
Package 6/24HostnameOS / ArchINSTALLBUILDCHECKBUILD BIN
MsBackendMassbank 1.15.2  (landing page)
RforMassSpectrometry Package Maintainer
git_last_commit: 0a91070
git_last_commit_date: 2025-01-17 03:25:07 -0500
nebbiolo1Linux (Ubuntu 24.04.1 LTS) / x86_64  OK    OK    OK  UNNEEDED, same version is already published
palomino7Windows Server 2022 Datacenter / x64  OK    OK    OK    OK  UNNEEDED, same version is already published
lconwaymacOS 12.7.1 Monterey / x86_64  OK    OK    OK    OK  UNNEEDED, same version is already published
kjohnson3macOS 13.7.1 Ventura / arm64  OK    OK    OK    OK  UNNEEDED, same version is already published
Package 7/24HostnameOS / ArchINSTALLBUILDCHECKBUILD BIN
MsBackendMetaboLights 1.1.0  (landing page)
Johannes Rainer
git_last_commit: 36596b1
git_last_commit_date: 2024-10-29 11:34:31 -0500
nebbiolo1Linux (Ubuntu 24.04.1 LTS) / x86_64  OK    ERROR  skipped
palomino7Windows Server 2022 Datacenter / x64  OK    ERROR  skippedskipped
lconwaymacOS 12.7.1 Monterey / x86_64  OK    ERROR  skippedskipped
kjohnson3macOS 13.7.1 Ventura / arm64  OK    OK    ERROR    OK  
Package 8/24HostnameOS / ArchINSTALLBUILDCHECKBUILD BIN
MsBackendMgf 1.15.2  (landing page)
RforMassSpectrometry Package Maintainer
git_last_commit: 35c6333
git_last_commit_date: 2025-01-17 02:54:12 -0500
nebbiolo1Linux (Ubuntu 24.04.1 LTS) / x86_64  OK    OK    OK  UNNEEDED, same version is already published
palomino7Windows Server 2022 Datacenter / x64  OK    OK    OK    OK  UNNEEDED, same version is already published
lconwaymacOS 12.7.1 Monterey / x86_64  OK    OK    OK    OK  UNNEEDED, same version is already published
kjohnson3macOS 13.7.1 Ventura / arm64  OK    OK    OK    OK  UNNEEDED, same version is already published
Package 9/24HostnameOS / ArchINSTALLBUILDCHECKBUILD BIN
MsBackendMsp 1.11.1  (landing page)
Johannes Rainer
git_last_commit: 75db366
git_last_commit_date: 2025-01-17 02:33:12 -0500
nebbiolo1Linux (Ubuntu 24.04.1 LTS) / x86_64  OK    OK    OK  UNNEEDED, same version is already published
palomino7Windows Server 2022 Datacenter / x64  OK    OK    OK    OK  UNNEEDED, same version is already published
lconwaymacOS 12.7.1 Monterey / x86_64  OK    OK    OK    OK  UNNEEDED, same version is already published
kjohnson3macOS 13.7.1 Ventura / arm64  OK    OK    OK    OK  UNNEEDED, same version is already published
Package 10/24HostnameOS / ArchINSTALLBUILDCHECKBUILD BIN
MsBackendRawFileReader 1.13.1  (landing page)
Christian Panse
git_last_commit: d2c3762
git_last_commit_date: 2024-11-07 01:23:44 -0500
nebbiolo1Linux (Ubuntu 24.04.1 LTS) / x86_64  OK    OK    OK  UNNEEDED, same version is already published
palomino7Windows Server 2022 Datacenter / x64  OK    OK    OK    OK  UNNEEDED, same version is already published
lconwaymacOS 12.7.1 Monterey / x86_64  OK    OK    OK    OK  UNNEEDED, same version is already published
kjohnson3macOS 13.7.1 Ventura / arm64  OK    OK    OK    OK  UNNEEDED, same version is already published
Package 11/24HostnameOS / ArchINSTALLBUILDCHECKBUILD BIN
MsBackendSql 1.7.3  (landing page)
Johannes Rainer
git_last_commit: b1a65a0
git_last_commit_date: 2025-01-24 06:25:18 -0500
nebbiolo1Linux (Ubuntu 24.04.1 LTS) / x86_64  OK    OK    OK  UNNEEDED, same version is already published
palomino7Windows Server 2022 Datacenter / x64  OK    OK    OK    OK  UNNEEDED, same version is already published
lconwaymacOS 12.7.1 Monterey / x86_64  OK    OK    OK    OK  UNNEEDED, same version is already published
kjohnson3macOS 13.7.1 Ventura / arm64  OK    OK    OK    OK  UNNEEDED, same version is already published
Package 12/24HostnameOS / ArchINSTALLBUILDCHECKBUILD BIN
MsExperiment 1.9.1  (landing page)
Laurent Gatto
git_last_commit: bc06ba2
git_last_commit_date: 2025-02-11 02:34:52 -0500
nebbiolo1Linux (Ubuntu 24.04.1 LTS) / x86_64  OK    OK    OK  YES
palomino7Windows Server 2022 Datacenter / x64  OK    OK    OK    OK  YES
lconwaymacOS 12.7.1 Monterey / x86_64  OK    OK    OK    OK  YES
kjohnson3macOS 13.7.1 Ventura / arm64  OK    OK    OK    OK  YES
Package 13/24HostnameOS / ArchINSTALLBUILDCHECKBUILD BIN
MsFeatures 1.15.0  (landing page)
Johannes Rainer
git_last_commit: 2fb27a6
git_last_commit_date: 2024-10-29 10:55:16 -0500
nebbiolo1Linux (Ubuntu 24.04.1 LTS) / x86_64  OK    OK    OK  UNNEEDED, same version is already published
palomino7Windows Server 2022 Datacenter / x64  OK    OK    OK    OK  UNNEEDED, same version is already published
lconwaymacOS 12.7.1 Monterey / x86_64  OK    OK    OK    OK  UNNEEDED, same version is already published
kjohnson3macOS 13.7.1 Ventura / arm64  OK    OK    OK    OK  UNNEEDED, same version is already published
Package 14/24HostnameOS / ArchINSTALLBUILDCHECKBUILD BIN
MSnbase 2.33.2  (landing page)
Laurent Gatto
git_last_commit: 7fad86f7
git_last_commit_date: 2024-11-12 03:09:21 -0500
nebbiolo1Linux (Ubuntu 24.04.1 LTS) / x86_64  OK    OK    ERROR  
palomino7Windows Server 2022 Datacenter / x64  OK    OK    ERROR    OK  
lconwaymacOS 12.7.1 Monterey / x86_64  OK    OK    ERROR    OK  
kjohnson3macOS 13.7.1 Ventura / arm64  OK    OK    ERROR    OK  
Package 15/24HostnameOS / ArchINSTALLBUILDCHECKBUILD BIN
MSnID 1.41.0  (landing page)
Vlad Petyuk
git_last_commit: dc343c5
git_last_commit_date: 2024-10-29 09:54:51 -0500
nebbiolo1Linux (Ubuntu 24.04.1 LTS) / x86_64  OK    OK    OK  UNNEEDED, same version is already published
palomino7Windows Server 2022 Datacenter / x64  OK    OK    OK    OK  UNNEEDED, same version is already published
lconwaymacOS 12.7.1 Monterey / x86_64  OK    OK    OK    OK  UNNEEDED, same version is already published
kjohnson3macOS 13.7.1 Ventura / arm64  OK    OK    ERROR    OK  
Package 16/24HostnameOS / ArchINSTALLBUILDCHECKBUILD BIN
MsQuality 1.7.1  (landing page)
Thomas Naake
git_last_commit: 8207c19
git_last_commit_date: 2025-01-22 09:02:54 -0500
nebbiolo1Linux (Ubuntu 24.04.1 LTS) / x86_64  OK    OK    OK  UNNEEDED, same version is already published
palomino7Windows Server 2022 Datacenter / x64  OK    OK    OK    OK  UNNEEDED, same version is already published
lconwaymacOS 12.7.1 Monterey / x86_64  OK    OK    OK    OK  UNNEEDED, same version is already published
kjohnson3macOS 13.7.1 Ventura / arm64  OK    OK    OK    OK  UNNEEDED, same version is already published
Package 17/24HostnameOS / ArchINSTALLBUILDCHECKBUILD BIN
mzID 1.45.0  (landing page)
Laurent Gatto
git_last_commit: 3c854c5
git_last_commit_date: 2024-10-29 09:48:07 -0500
nebbiolo1Linux (Ubuntu 24.04.1 LTS) / x86_64  OK    OK    OK  UNNEEDED, same version is already published
palomino7Windows Server 2022 Datacenter / x64  OK    OK    OK    OK  UNNEEDED, same version is already published
lconwaymacOS 12.7.1 Monterey / x86_64  OK    OK    OK    OK  UNNEEDED, same version is already published
kjohnson3macOS 13.7.1 Ventura / arm64  OK    OK    OK    OK  UNNEEDED, same version is already published
Package 18/24HostnameOS / ArchINSTALLBUILDCHECKBUILD BIN
mzR 2.41.4  (landing page)
Steffen Neumann
git_last_commit: f9ec8cf
git_last_commit_date: 2025-02-11 16:01:26 -0500
nebbiolo1Linux (Ubuntu 24.04.1 LTS) / x86_64  OK    OK    WARNINGS  YES
palomino7Windows Server 2022 Datacenter / x64  OK    OK    WARNINGS    OK  YES
lconwaymacOS 12.7.1 Monterey / x86_64  OK    OK    WARNINGS    OK  YES
kjohnson3macOS 13.7.1 Ventura / arm64  OK    OK    WARNINGS    OK  YES
Package 19/24HostnameOS / ArchINSTALLBUILDCHECKBUILD BIN
PSMatch 1.11.0  (landing page)
Laurent Gatto
git_last_commit: e8f78a1
git_last_commit_date: 2024-10-29 11:09:11 -0500
nebbiolo1Linux (Ubuntu 24.04.1 LTS) / x86_64  OK    OK    OK  UNNEEDED, same version is already published
palomino7Windows Server 2022 Datacenter / x64  OK    OK    OK    OK  UNNEEDED, same version is already published
lconwaymacOS 12.7.1 Monterey / x86_64  OK    OK    OK    OK  UNNEEDED, same version is already published
kjohnson3macOS 13.7.1 Ventura / arm64  OK    OK    OK    OK  UNNEEDED, same version is already published
Package 20/24HostnameOS / ArchINSTALLBUILDCHECKBUILD BIN
QFeatures 1.17.2  (landing page)
Laurent Gatto
git_last_commit: 84d3099
git_last_commit_date: 2025-02-07 14:29:19 -0500
nebbiolo1Linux (Ubuntu 24.04.1 LTS) / x86_64  OK    OK    OK  UNNEEDED, same version is already published
palomino7Windows Server 2022 Datacenter / x64  OK    OK    OK    OK  UNNEEDED, same version is already published
lconwaymacOS 12.7.1 Monterey / x86_64  OK    OK    OK    OK  UNNEEDED, same version is already published
kjohnson3macOS 13.7.1 Ventura / arm64  OK    OK    OK    OK  UNNEEDED, same version is already published
Package 21/24HostnameOS / ArchINSTALLBUILDCHECKBUILD BIN
Spectra 1.17.5  (landing page)
RforMassSpectrometry Package Maintainer
git_last_commit: 31ab50b
git_last_commit_date: 2025-01-16 03:48:56 -0500
nebbiolo1Linux (Ubuntu 24.04.1 LTS) / x86_64  OK    OK    OK  UNNEEDED, same version is already published
palomino7Windows Server 2022 Datacenter / x64  OK    OK    OK    OK  UNNEEDED, same version is already published
lconwaymacOS 12.7.1 Monterey / x86_64  OK    OK    OK    OK  UNNEEDED, same version is already published
kjohnson3macOS 13.7.1 Ventura / arm64  OK    OK    OK    OK  UNNEEDED, same version is already published
Package 22/24HostnameOS / ArchINSTALLBUILDCHECKBUILD BIN
SpectraQL 1.1.0  (landing page)
Johannes Rainer
git_last_commit: 85b34ee
git_last_commit_date: 2024-10-29 11:33:42 -0500
nebbiolo1Linux (Ubuntu 24.04.1 LTS) / x86_64  OK    OK    OK  UNNEEDED, same version is already published
palomino7Windows Server 2022 Datacenter / x64  OK    OK    OK    OK  UNNEEDED, same version is already published
lconwaymacOS 12.7.1 Monterey / x86_64  OK    OK    OK    OK  UNNEEDED, same version is already published
kjohnson3macOS 13.7.1 Ventura / arm64  OK    OK    OK    OK  UNNEEDED, same version is already published
Package 23/24HostnameOS / ArchINSTALLBUILDCHECKBUILD BIN
topdownr 1.29.0  (landing page)
Sebastian Gibb
git_last_commit: 9e53e8c
git_last_commit_date: 2024-10-29 10:23:25 -0500
nebbiolo1Linux (Ubuntu 24.04.1 LTS) / x86_64  OK    OK    OK  UNNEEDED, same version is already published
palomino7Windows Server 2022 Datacenter / x64  OK    OK    OK    OK  UNNEEDED, same version is already published
lconwaymacOS 12.7.1 Monterey / x86_64  OK    OK    OK    OK  UNNEEDED, same version is already published
kjohnson3macOS 13.7.1 Ventura / arm64  OK    OK    OK    OK  UNNEEDED, same version is already published
Package 24/24HostnameOS / ArchINSTALLBUILDCHECKBUILD BIN
xcms 4.5.2  (landing page)
Steffen Neumann
git_last_commit: 143f3b9f
git_last_commit_date: 2024-12-15 06:11:00 -0500
nebbiolo1Linux (Ubuntu 24.04.1 LTS) / x86_64  OK    OK    OK  UNNEEDED, same version is already published
palomino7Windows Server 2022 Datacenter / x64  OK    OK    WARNINGS    OK  UNNEEDED, same version is already published
lconwaymacOS 12.7.1 Monterey / x86_64  OK    OK    OK    OK  UNNEEDED, same version is already published
kjohnson3macOS 13.7.1 Ventura / arm64  OK    OK    OK    OK  UNNEEDED, same version is already published