Package: ProtGenerics Version: 1.39.2 Command: /Library/Frameworks/R.framework/Resources/bin/R CMD build --keep-empty-dirs --no-resave-data ProtGenerics StartedAt: 2025-02-09 17:18:06 -0500 (Sun, 09 Feb 2025) EndedAt: 2025-02-09 17:18:07 -0500 (Sun, 09 Feb 2025) EllapsedTime: 1.0 seconds RetCode: 0 Status: OK PackageFile: ProtGenerics_1.39.2.tar.gz PackageFileSize: 10.9 KiB